BEGIN:VCALENDAR
VERSION:2.0
PRODID:-//eventon.com NONSGML v1.0//EN
CALSCALE:GREGORIAN
METHOD:PUBLISH
BEGIN:VEVENT
UID:69e7436b47aee
DTSTAMP:20260421T092915Z
DTSTART:20250330T220000Z
DTEND:20250331T020000Z
LOCATION:
SUMMARY:Troy Haun
DESCRIPTION:Enjoy live music by Troy Haun while you dine at The Wharf at Su
 nset Walk!\nhttps://wharfatsunsetwalk.com/events/troy-haun-live-music/
URL:https://wharfatsunsetwalk.com/events/troy-haun-live-music/
END:VEVENT
END:VCALENDAR