BEGIN:VCALENDAR
VERSION:2.0
PRODID:-//eventon.com NONSGML v1.0//EN
CALSCALE:GREGORIAN
METHOD:PUBLISH
BEGIN:VEVENT
UID:69ece77dc0191
DTSTAMP:20260425T161037Z
DTSTART:20251213T183000Z
DTEND:20251213T223000Z
LOCATION:
SUMMARY:Ember Road
DESCRIPTION:Enjoy live music by Ember Road while you dine at The Wharf at S
 unset Walk.\nhttps://wharfatsunsetwalk.com/events/ember-road/
URL:https://wharfatsunsetwalk.com/events/ember-road/
END:VEVENT
END:VCALENDAR